BEGIN:VCALENDAR
VERSION:2.0
PRODID:-//Amicale des handicapés de Faches Thumesnil - ECPv6.15.15//NONSGML v1.0//EN
CALSCALE:GREGORIAN
METHOD:PUBLISH
X-WR-CALNAME:Amicale des handicapés de Faches Thumesnil
X-ORIGINAL-URL:https://handicapes-fachesthumesnil.fr
X-WR-CALDESC:Évènements pour Amicale des handicapés de Faches Thumesnil
REFRESH-INTERVAL;VALUE=DURATION:PT1H
X-Robots-Tag:noindex
X-PUBLISHED-TTL:PT1H
BEGIN:VTIMEZONE
TZID:Europe/Helsinki
BEGIN:DAYLIGHT
TZOFFSETFROM:+0200
TZOFFSETTO:+0300
TZNAME:EEST
DTSTART:20200329T010000
END:DAYLIGHT
BEGIN:STANDARD
TZOFFSETFROM:+0300
TZOFFSETTO:+0200
TZNAME:EET
DTSTART:20201025T010000
END:STANDARD
BEGIN:DAYLIGHT
TZOFFSETFROM:+0200
TZOFFSETTO:+0300
TZNAME:EEST
DTSTART:20210328T010000
END:DAYLIGHT
BEGIN:STANDARD
TZOFFSETFROM:+0300
TZOFFSETTO:+0200
TZNAME:EET
DTSTART:20211031T010000
END:STANDARD
BEGIN:DAYLIGHT
TZOFFSETFROM:+0200
TZOFFSETTO:+0300
TZNAME:EEST
DTSTART:20220327T010000
END:DAYLIGHT
BEGIN:STANDARD
TZOFFSETFROM:+0300
TZOFFSETTO:+0200
TZNAME:EET
DTSTART:20221030T010000
END:STANDARD
BEGIN:DAYLIGHT
TZOFFSETFROM:+0200
TZOFFSETTO:+0300
TZNAME:EEST
DTSTART:20230326T010000
END:DAYLIGHT
BEGIN:STANDARD
TZOFFSETFROM:+0300
TZOFFSETTO:+0200
TZNAME:EET
DTSTART:20231029T010000
END:STANDARD
END:VTIMEZONE
BEGIN:VEVENT
DTSTART;TZID=Europe/Helsinki:20211231T200000
DTEND;TZID=Europe/Helsinki:20220101T033000
DTSTAMP:20260426T035756
CREATED:20210521T144952Z
LAST-MODIFIED:20211128T161959Z
UID:243-1640980800-1641007800@handicapes-fachesthumesnil.fr
SUMMARY:Réveillon dansant
DESCRIPTION:  \n \nVenez passer le cap de la nouvelle année avec l’Amicale\, dans une ambiance conviviale. \nAnimation par le chanteur Lou Davis. \nRepas préparé et servi par un restaurateur de Faches Thumesnil. Produits frais et maison garantis \nComposition du menu : \n\nFoie gras de canard\, confiture d’oignons sur pain d’épices et ses toasts\nGâteau de Saint Jacques\, sauce Nantua\nTrou Normand\nMédaillons de noix de veau braisé au miel\, et ses garnitures\nLa trilogie de fromages sur lit de salade aux noix\nGâteau de l’an neuf\, au Spéculoos\nCoupe de champagne\, café\n\nRéservation obligatoire : lien ci-dessous dans la rubrique « Site ». \n 
URL:https://handicapes-fachesthumesnil.fr/agenda/reveillon-dansant/
LOCATION:salle BARON\, 1 rue Edouard Vaillant\, Faches Thumesnil\, 59155
CATEGORIES:Soirée évènement
ORGANIZER;CN="Amicale des Handicap%C3%A9s":MAILTO:handicapes-fachesthumesnil.fr
END:VEVENT
END:VCALENDAR